0.1
0
0
-0.1
625638.96425826
4762003.26576434
