0.1
0
0
-0.1
626488.085575401
4762018.82488589
