0.1
0
0
-0.1
623951.233328625
4761393.77485428
