0.1
0
0
-0.1
626498.806050426
4761440.46129315
