0.1
0
0
-0.1
625660.262266338
4760846.53607393
