0.1
0
0
-0.1
626509.525624472
4760862.09897729
