0.1
0
0
-0.1
628218.917444508
4760315.49679299
