0.1
0
0
-0.1
624832.152725694
4759674.24111767
