0.1
0
0
-0.1
624003.744883496
4758501.9398005
