0.1
0
0
-0.1
626552.397919734
4758548.65419217
