0.1
0
0
-0.1
626563.11399331
4757970.29386547
