0.1
0
0
-0.1
624035.238016934
4756766.85694228
