0.1
0
0
-0.1
626595.257689752
4756235.21701927
