0.1
0
0
-0.1
623081.174445012
4762535.1605111
