0.1
0
0
-0.1
624768.681499689
4763144.45813604
