0.1
0
0
-0.1
622182.801716638
4717393.99151086
