0.1
0
0
-0.1
623037.434952662
4717409.16180839
