0.1
0
0
-0.1
623068.271230477
4715674.1719558
