0.1
0
0
-0.1
624777.959488206
4715704.71551074
