0.1
0
0
-0.1
625664.264192544
4713985.31479217
