0.1
0
0
-0.1
625674.748280947
4713406.9867383
