0.1
0
0
-0.1
624830.029124076
4712813.07669231
