0.1
0
0
-0.1
626550.97787769
4712265.91231485
