0.1
0
0
-0.1
626561.52873048
4711687.58084665
