0.1
0
0
-0.1
628250.830905026
4712875.62058991
