0.1
0
0
-0.1
628261.526063804
4712297.28720784
