0.1
0
0
-0.1
624871.657481592
4710499.7554213
