0.1
0
0
-0.1
627438.116571403
4710546.50344561
