0.1
0
0
-0.1
626593.178792221
4709952.59214748
