0.1
0
0
-0.1
652154.539140319
4753862.89255639
