0.1
0
0
-0.1
652167.416098184
4753284.5611384
