0.1
0
0
-0.1
651330.006058908
4752687.26463303
