0.1
0
0
-0.1
655568.266643445
4753361.06584635
