0.1
0
0
-0.1
657268.69639745
4753399.84057654
