0.1
0
0
-0.1
655581.430093579
4752782.73225803
