0.1
0
0
-0.1
657282.004519702
4752821.50989018
