0.1
0
0
-0.1
654744.233201656
4752185.00986693
