0.1
0
0
-0.1
655607.755995714
4751626.06657485
