0.1
0
0
-0.1
658118.912327423
4753419.438295
