0.1
0
0
-0.1
659832.868352357
4752880.72234742
