0.1
0
0
-0.1
660710.348658634
4751743.8686177
