0.1
0
0
-0.1
662397.480873659
4752362.44354072
