0.1
0
0
-0.1
664098.214680807
4752402.89654697
