0.1
0
0
-0.1
653919.912310518
4751009.16804922
