0.1
0
0
-0.1
653082.356938117
4750411.87886303
