0.1
0
0
-0.1
653932.930167838
4750430.84155392
