0.1
0
0
-0.1
653958.96679767
4749274.19015259
