0.1
0
0
-0.1
656471.421563895
4751067.1257108
