0.1
0
0
-0.1
654783.503398374
4750450.01723975
