0.1
0
0
-0.1
659036.381303001
4750547.58904157
